BEGIN:VCALENDAR
PRODID:-//eluceo/ical//2.0/EN
VERSION:2.0
CALSCALE:GREGORIAN
BEGIN:VEVENT
UID:32995a072149ac5abe4d938b0b1cfc0f
DTSTAMP:20260422T080501Z
SUMMARY:Congregation Beth Israel Sisterhood Book Club
DESCRIPTION:Jewish Federation of Central Massachusetts\nCalendar\nhttps://j
 ewishcentralmass.org/calendar/congregation-beth-israel-sisterhood-book-clu
 b\n\nBI Sist Book Club
DTSTART;TZID=America/New_York:20130108T110000
DTEND;TZID=America/New_York:20130108T113000
END:VEVENT
END:VCALENDAR
