BEGIN:VCALENDAR
PRODID:-//eluceo/ical//2.0/EN
VERSION:2.0
CALSCALE:GREGORIAN
BEGIN:VEVENT
UID:c4b941055b1680c1e3b251008dff0d20
DTSTAMP:20260424T014803Z
SUMMARY:Congregation Beth Israel Shabbat @ Shul
DESCRIPTION:Jewish Federation of Central Massachusetts\nCalendar\nhttps://j
 ewishcentralmass.org/calendar/congregation-beth-israel-shabbat--shul\n\nBI
  Shabbat @ shoul
DTSTART;TZID=America/New_York:20130125T190000
DTEND;TZID=America/New_York:20130125T193000
END:VEVENT
END:VCALENDAR
