BEGIN:VCALENDAR
PRODID:-//eluceo/ical//2.0/EN
VERSION:2.0
CALSCALE:GREGORIAN
BEGIN:VEVENT
UID:d19290f7eeb3efc332fe110d4f709018
DTSTAMP:20260423T150821Z
SUMMARY:Congregation Beth Israel Rabbi Fellman's Installation Celebration
DESCRIPTION:Jewish Federation of Central Massachusetts\nCalendar\nhttps://j
 ewishcentralmass.org/calendar/congregation-beth-israel-rabbi-fellmans-inst
 allation-celebration\n\nRabbi Fellman's Installation Celebration:\n\n 
DTSTART;TZID=America/New_York:20150607T100000
DTEND;TZID=America/New_York:20150607T120000
END:VEVENT
END:VCALENDAR
