BEGIN:VCALENDAR
PRODID:-//eluceo/ical//2.0/EN
VERSION:2.0
CALSCALE:GREGORIAN
BEGIN:VEVENT
UID:03c4db948070c44766fad14d9b83da64
DTSTAMP:20260421T091302Z
SUMMARY:Congregation Beth Israel Membership Event
DESCRIPTION:Jewish Federation of Central Massachusetts\nCalendar\nhttps://j
 ewishcentralmass.org/calendar/congregation-beth-israel-membership-event\n\
 nBI Membership Event
DTSTART;TZID=America/New_York:20130112T200000
DTEND;TZID=America/New_York:20130112T203000
END:VEVENT
END:VCALENDAR
