BEGIN:VCALENDAR
PRODID:-//eluceo/ical//2.0/EN
VERSION:2.0
CALSCALE:GREGORIAN
BEGIN:VEVENT
UID:588d7e9ac952bb458cc26cacff2e3da7
DTSTAMP:20260424T030654Z
SUMMARY:Congregation Beth ISrael Community Seder
DESCRIPTION:Jewish Federation of Central Massachusetts\nCalendar\nhttps://j
 ewishcentralmass.org/calendar/congregation-beth-israel-community-seder\n\n
 Congregation Beth Israel Community Seder
DTSTART;TZID=America/New_York:20150404T000000
DTEND;TZID=America/New_York:20150404T235959
END:VEVENT
END:VCALENDAR
