BEGIN:VCALENDAR
PRODID:-//eluceo/ical//2.0/EN
VERSION:2.0
CALSCALE:GREGORIAN
BEGIN:VEVENT
UID:960a98126e5c87dc1a59d60cbfa4290a
DTSTAMP:20260422T173206Z
SUMMARY:Congregation Beth Israel Coffeehouse & Auction
DESCRIPTION:Jewish Federation of Central Massachusetts\nCalendar\nhttps://j
 ewishcentralmass.org/calendar/congregation-beth-israel-coffeehouse-auction
 \n\nCongregation Beth Israel Coffehouse & Auction Denim & Diamonds
DTSTART;TZID=America/New_York:20151219T190000
DTEND;TZID=America/New_York:20151219T220000
END:VEVENT
END:VCALENDAR
