BEGIN:VCALENDAR
PRODID:-//eluceo/ical//2.0/EN
VERSION:2.0
CALSCALE:GREGORIAN
BEGIN:VEVENT
UID:a0045f49bc4e376c6c70ba0948b2aa39
DTSTAMP:20260422T164502Z
SUMMARY:Congregation Beth Israel Brotherhood Shabbat
DESCRIPTION:Jewish Federation of Central Massachusetts\nCalendar\nhttps://j
 ewishcentralmass.org/calendar/congregation-beth-israel-brotherhood-shabbat
 \n\nBI Bro Shabbat
DTSTART;TZID=America/New_York:20130420T100000
DTEND;TZID=America/New_York:20130420T103000
END:VEVENT
END:VCALENDAR
