BEGIN:VCALENDAR
PRODID:-//eluceo/ical//2.0/EN
VERSION:2.0
CALSCALE:GREGORIAN
BEGIN:VEVENT
UID:914f7777cadc4d89c0a1498ddf3efd96
DTSTAMP:20260424T174601Z
SUMMARY:Congregation Beth Israel Brotherhood Dinner
DESCRIPTION:Jewish Federation of Central Massachusetts\nCalendar\nhttps://j
 ewishcentralmass.org/calendar/congregation-beth-israel-brotherhood-dinner\
 n\nBI Bro Dinner
DTSTART;TZID=America/New_York:20130508T190000
DTEND;TZID=America/New_York:20130508T193000
END:VEVENT
END:VCALENDAR
