BEGIN:VCALENDAR
PRODID:-//eluceo/ical//2.0/EN
VERSION:2.0
CALSCALE:GREGORIAN
BEGIN:VEVENT
UID:c322f9ea88dc0e3545819d14e1b50a2b
DTSTAMP:20260424T175108Z
SUMMARY:Congregation Beth Israel Brotherhood Breakfast
DESCRIPTION:Jewish Federation of Central Massachusetts\nCalendar\nhttps://j
 ewishcentralmass.org/calendar/congregation-beth-israel-brotherhood-breakfa
 st\n\nBI Bro Brkft
DTSTART;TZID=America/New_York:20130106T100000
DTEND;TZID=America/New_York:20130106T103000
END:VEVENT
END:VCALENDAR
