BEGIN:VCALENDAR
PRODID:-//eluceo/ical//2.0/EN
VERSION:2.0
CALSCALE:GREGORIAN
BEGIN:VEVENT
UID:c6e624b85a2827d9e02f5a603fa20461
DTSTAMP:20260422T103744Z
SUMMARY:Congregation Beth Israel Board Meeting
DESCRIPTION:Jewish Federation of Central Massachusetts\nCalendar\nhttps://j
 ewishcentralmass.org/calendar/congregation-beth-israel-board-meetingsept\n
 \nBI Board Meeting
DTSTART;TZID=America/New_York:20150903T190000
DTEND;TZID=America/New_York:20150903T210000
END:VEVENT
END:VCALENDAR
