BEGIN:VCALENDAR
PRODID:-//eluceo/ical//2.0/EN
VERSION:2.0
CALSCALE:GREGORIAN
BEGIN:VEVENT
UID:cea09c1781517ee21bd3c8acb71a1b92
DTSTAMP:20260422T163657Z
SUMMARY:Congregation Beth Israel Board Meeting
DESCRIPTION:Jewish Federation of Central Massachusetts\nCalendar\nhttps://j
 ewishcentralmass.org/calendar/congregation-beth-israel-board-meeting\n\nBI
  Bd
DTSTART;TZID=America/New_York:20130131T193000
DTEND;TZID=America/New_York:20130131T200000
END:VEVENT
END:VCALENDAR
