BEGIN:VCALENDAR
PRODID:-//eluceo/ical//2.0/EN
VERSION:2.0
CALSCALE:GREGORIAN
BEGIN:VEVENT
UID:741e171e5dd3008adf602e3d89a9980c
DTSTAMP:20260425T025424Z
SUMMARY:Congregation Beth Israel 92nd St Y Live Broadcast
DESCRIPTION:Jewish Federation of Central Massachusetts\nCalendar\nhttps://j
 ewishcentralmass.org/calendar/congregation-beth-israel-92nd-st-y-live-broa
 dcast\n\nBI 92nd St Y Live Broadcast
DTSTART;TZID=America/New_York:20131001T200000
DTEND;TZID=America/New_York:20131001T203000
END:VEVENT
END:VCALENDAR
