BEGIN:VCALENDAR
PRODID:-//eluceo/ical//2.0/EN
VERSION:2.0
CALSCALE:GREGORIAN
BEGIN:VEVENT
UID:49f410c6d736efec468cb092d81c0a64
DTSTAMP:20260422T093058Z
SUMMARY:Congregation Agudat Achim Scholar in Residence: Rabbi Marvin Tokaye
 r
DESCRIPTION:Jewish Federation of Central Massachusetts\nCalendar\nhttps://j
 ewishcentralmass.org/calendar/congregation-agudat-achim-scholar-in-residen
 ce-rabbi-marvin-tokayer\n\nCAA Scholar in Residence: Rabbi Marvin Tokayer
DTSTART;TZID=America/New_York:20131108T180000
DTEND;TZID=America/New_York:20131109T220000
END:VEVENT
END:VCALENDAR
