BEGIN:VCALENDAR
PRODID:-//eluceo/ical//2.0/EN
VERSION:2.0
CALSCALE:GREGORIAN
BEGIN:VEVENT
UID:53ebffb0ec0a232bf6addc9607427e76
DTSTAMP:20260424T094512Z
SUMMARY:Congregation Agudat Achim - Annual Scholar in Residence Shabbat
DESCRIPTION:Jewish Federation of Central Massachusetts\nCalendar\nhttps://j
 ewishcentralmass.org/calendar/congregation-agudat-achim-annual-scholar-in-
 residence-shabbat\n\nCongregation Agudat Achim in Leominster - Annual Sch
 olar in Residence Shabbat on April 5-6\, 2019.  Our visiting scholar will
  be Dr. Rachel Adelman.  
DTSTART;TZID=America/New_York:20190405T170000
DTEND;TZID=America/New_York:20190406T190000
END:VEVENT
END:VCALENDAR
