BEGIN:VCALENDAR
PRODID:-//eluceo/ical//2.0/EN
VERSION:2.0
CALSCALE:GREGORIAN
BEGIN:VEVENT
UID:0e978cd13f6c7c881145d2a64c92f358
DTSTAMP:20260422T072119Z
SUMMARY:Congregation Agudat Achim 1st Day of Hebrew School
DESCRIPTION:Jewish Federation of Central Massachusetts\nCalendar\nhttps://j
 ewishcentralmass.org/calendar/congregation-agudat-achim-1st-day-of-hebrew-
 school\n\nCAA 1st Day of Hebrew School
DTSTART;TZID=America/New_York:20130908T090000
DTEND;TZID=America/New_York:20130908T120000
END:VEVENT
END:VCALENDAR
