BEGIN:VCALENDAR
PRODID:-//eluceo/ical//2.0/EN
VERSION:2.0
CALSCALE:GREGORIAN
BEGIN:VEVENT
UID:48b57974e020ce17a97a81b165e00dfb
DTSTAMP:20260422T110534Z
SUMMARY:Concert of Holocaust Music at TES
DESCRIPTION:Jewish Federation of Central Massachusetts\nCalendar\nhttps://j
 ewishcentralmass.org/calendar/concert-of-holocaust-music-at-tes\n\nJoin Ca
 ntor Kohan for a concert of Holocaust music at TES on Thursday\, October 2
 8 - Time TBD\n\n 
DTSTART;TZID=America/New_York:20211028T190000
DTEND;TZID=America/New_York:20211028T210000
END:VEVENT
END:VCALENDAR
