BEGIN:VCALENDAR
PRODID:-//eluceo/ical//2.0/EN
VERSION:2.0
CALSCALE:GREGORIAN
BEGIN:VEVENT
UID:5358a63fa395c2aac7c25ac9f94c80f0
DTSTAMP:20260424T005053Z
SUMMARY:Concert for Kindness
DESCRIPTION:Jewish Federation of Central Massachusetts\nCalendar\nhttps://j
 ewishcentralmass.org/calendar/concert-for-kindness\n\nConcert for Kindness
 \, April 1\, 2017 7-9:30pm  Congregation B’nai Shalom\n\nAn evening of 
 music filled with musical guests on the theme of kindness and unity.\n\nEn
 trance by donation with an advance online registration at http://cbnaishal
 om.org.\n\nAll profits will be donated to the ADL (Anti Defamation League)
 .
DTSTART;TZID=America/New_York:20170401T190000
DTEND;TZID=America/New_York:20170401T213000
END:VEVENT
END:VCALENDAR
