BEGIN:VCALENDAR
PRODID:-//eluceo/ical//2.0/EN
VERSION:2.0
CALSCALE:GREGORIAN
BEGIN:VEVENT
UID:2132b148d68e2d4cff084aa20108d917
DTSTAMP:20260421T184019Z
SUMMARY:Community Yom Hashoah Program 2021
DESCRIPTION:Jewish Federation of Central Massachusetts\nCalendar\nhttps://j
 ewishcentralmass.org/calendar/community-yom-hashoah-program-2021\n\nCommun
 ity Yom Hashoah Program\n\nApril 7th at 7:30 pm
DTSTART;TZID=America/New_York:20210407T193000
DTEND;TZID=America/New_York:20210407T210000
END:VEVENT
END:VCALENDAR
