BEGIN:VCALENDAR
PRODID:-//eluceo/ical//2.0/EN
VERSION:2.0
CALSCALE:GREGORIAN
BEGIN:VEVENT
UID:4342acf3db45fa1aa1a3f51f74101c9d
DTSTAMP:20260423T142209Z
SUMMARY:Community Yom Hashoah Event
DESCRIPTION:Jewish Federation of Central Massachusetts\nCalendar\nhttps://j
 ewishcentralmass.org/calendar/community-yom-hashoah-event\n\nCommunity Yom
  Hashoah Event at CBS\n\n6:30 pm
DTSTART;TZID=America/New_York:20220426T183000
DTEND;TZID=America/New_York:20220426T200000
END:VEVENT
END:VCALENDAR
