BEGIN:VCALENDAR
PRODID:-//eluceo/ical//2.0/EN
VERSION:2.0
CALSCALE:GREGORIAN
BEGIN:VEVENT
UID:1acbda44a9c5513b2351ef97e597fce6
DTSTAMP:20260423T153853Z
SUMMARY:Community Yom Ha’atzmaut Event
DESCRIPTION:Jewish Federation of Central Massachusetts\nCalendar\nhttps://j
 ewishcentralmass.org/calendar/community-yom-haatzmaut-event\n\nMay 9th - 
 Community wide event (speaker) for Yom Ha’atzmaut\, sponsored by Federat
 ion and Israel Bonds\n\nTime -  TBD
DTSTART;TZID=America/New_York:20190509T180000
DTEND;TZID=America/New_York:20190509T210000
END:VEVENT
END:VCALENDAR
