BEGIN:VCALENDAR
PRODID:-//eluceo/ical//2.0/EN
VERSION:2.0
CALSCALE:GREGORIAN
BEGIN:VEVENT
UID:83f9dfafb85dfa1b4dfd84cc0ce0e214
DTSTAMP:20260420T193329Z
SUMMARY:Community-wide Yom HaShoah Program
DESCRIPTION:Jewish Federation of Central Massachusetts\nCalendar\nhttps://j
 ewishcentralmass.org/calendar/community-wide-yom-hashoah-program\n\nCommun
 ity-wide Yom HaShoah Program
DTSTART;TZID=America/New_York:20130407T160000
DTEND;TZID=America/New_York:20130407T180000
END:VEVENT
END:VCALENDAR
