BEGIN:VCALENDAR
PRODID:-//eluceo/ical//2.0/EN
VERSION:2.0
CALSCALE:GREGORIAN
BEGIN:VEVENT
UID:0fb5c47c81d18b669d1c0f6ba59f6609
DTSTAMP:20260423T062609Z
SUMMARY:Community-wide Yom Ha'Atzmaut Event
DESCRIPTION:Jewish Federation of Central Massachusetts\nCalendar\nhttps://j
 ewishcentralmass.org/calendar/community-wide-yom-haatzmaut-event\n\nCommun
 ity wide Yom Ha'Atzmaut event from 4-6:30 pm at Cyprian Keyes\n\n 
DTSTART;TZID=America/New_York:20180429T160000
DTEND;TZID=America/New_York:20180429T183000
END:VEVENT
END:VCALENDAR
