BEGIN:VCALENDAR
PRODID:-//eluceo/ical//2.0/EN
VERSION:2.0
CALSCALE:GREGORIAN
BEGIN:VEVENT
UID:88504397f0a6f930e06c246e9528f965
DTSTAMP:20260422T232531Z
SUMMARY:Community Wide Yom Ha’atzmaut Celebration 2023
DESCRIPTION:Jewish Federation of Central Massachusetts\nCalendar\nhttps://j
 ewishcentralmass.org/calendar/community-wide-yom-haatzmaut-celebration-202
 3\n\nSunday\, April 30th 4-8 pm.  \n\nCommunity Wide Yom Ha’atzmaut C
 elebration\n\nwith CAMERA
DTSTART;TZID=America/New_York:20230430T160000
DTEND;TZID=America/New_York:20230430T200000
END:VEVENT
END:VCALENDAR
