BEGIN:VCALENDAR
PRODID:-//eluceo/ical//2.0/EN
VERSION:2.0
CALSCALE:GREGORIAN
BEGIN:VEVENT
UID:008a3aa73f088fce956601ea5518cf65
DTSTAMP:20260425T114232Z
SUMMARY:Community Wide Purim Celebration
DESCRIPTION:Jewish Federation of Central Massachusetts\nCalendar\nhttps://j
 ewishcentralmass.org/calendar/community-wide-purim-celebration\n\nCommunit
 y Wide Purim Celebration
DTSTART;TZID=America/New_York:20220317T180000
DTEND;TZID=America/New_York:20220317T210000
END:VEVENT
END:VCALENDAR
