BEGIN:VCALENDAR
PRODID:-//eluceo/ical//2.0/EN
VERSION:2.0
CALSCALE:GREGORIAN
BEGIN:VEVENT
UID:568322e2fc1188432f9daa252343c1c4
DTSTAMP:20260422T182828Z
SUMMARY:Community Wide Purim Carnival and Shabbat Dinner
DESCRIPTION:Jewish Federation of Central Massachusetts\nCalendar\nhttps://j
 ewishcentralmass.org/calendar/community-wide-purim-carnival-and-shabbat-di
 nner\n\nCommunity Wide Purim Carnival and Shabbat Dinner\n\n4:30 pm: Megil
 lah Reading\n\n5:00-6:30 pm: Carnival\n\n6:35 pm: Candle Lighting\, follow
 ed by dinner\n\n \n\nThis event will take place in Doherty High School Ca
 feteria which is located by the main entrance of the school\, on the righ
 t-hand side.\n\n 
DTSTART;TZID=America/New_York:20250314T163000
DTEND;TZID=America/New_York:20250314T200000
END:VEVENT
END:VCALENDAR
