BEGIN:VCALENDAR
PRODID:-//eluceo/ical//2.0/EN
VERSION:2.0
CALSCALE:GREGORIAN
BEGIN:VEVENT
UID:5e9583a92528948200bc13139d9cfc0f
DTSTAMP:20260423T184620Z
SUMMARY:Community-wide Mimouna 2017
DESCRIPTION:Jewish Federation of Central Massachusetts\nCalendar\nhttps://j
 ewishcentralmass.org/calendar/community-wide-mimouna-2017\n\ncommunity-wid
 e Mimouna
DTSTART;TZID=America/New_York:20170419T170000
DTEND;TZID=America/New_York:20170419T200000
END:VEVENT
END:VCALENDAR
