BEGIN:VCALENDAR
PRODID:-//eluceo/ical//2.0/EN
VERSION:2.0
CALSCALE:GREGORIAN
BEGIN:VEVENT
UID:bf9896cda1cdf3df7a9ed9bb8e6882d8
DTSTAMP:20260423T010928Z
SUMMARY:Community Wide Lag B'Omer Celebration
DESCRIPTION:Jewish Federation of Central Massachusetts\nCalendar\nhttps://j
 ewishcentralmass.org/calendar/community-wide-lag-bomer-celebration\n\nComm
 unity wide Lag B'Omer Celebration
DTSTART;TZID=America/New_York:20160526T173000
DTEND;TZID=America/New_York:20160526T193000
END:VEVENT
END:VCALENDAR
