BEGIN:VCALENDAR
PRODID:-//eluceo/ical//2.0/EN
VERSION:2.0
CALSCALE:GREGORIAN
BEGIN:VEVENT
UID:87c685147aa3054f0fb8c493434cbe29
DTSTAMP:20260422T121312Z
SUMMARY:Community Wide Hanukkah Event 2024
DESCRIPTION:Jewish Federation of Central Massachusetts\nCalendar\nhttps://j
 ewishcentralmass.org/calendar/community-wide-hanukkah-event-2024\n\nCommun
 ity Wide Hanukkah Event 2024\n\nDetails: TBD
DTSTART;TZID=America/New_York:20241229T120000
DTEND;TZID=America/New_York:20241229T180000
END:VEVENT
END:VCALENDAR
