BEGIN:VCALENDAR
PRODID:-//eluceo/ical//2.0/EN
VERSION:2.0
CALSCALE:GREGORIAN
BEGIN:VEVENT
UID:f1988658a4e072473ab4fd58bd9cae35
DTSTAMP:20260421T043052Z
SUMMARY:Community Unity Passover Seder
DESCRIPTION:Jewish Federation of Central Massachusetts\nCalendar\nhttps://j
 ewishcentralmass.org/calendar/community-unity-passover-seder\n\nThe Black 
 Jewish Alliance  of the Jewish Federation/ NAACP is hosting a community u
 nity Passover seder on April 7th at 4 PM. 
DTSTART;TZID=America/New_York:20190407T180000
DTEND;TZID=America/New_York:20190407T200000
END:VEVENT
END:VCALENDAR
