BEGIN:VCALENDAR
PRODID:-//eluceo/ical//2.0/EN
VERSION:2.0
CALSCALE:GREGORIAN
BEGIN:VEVENT
UID:357637cdb1ed7b61410e45e509a3e337
DTSTAMP:20260424T235053Z
SUMMARY:Community Trip - Russian Icon Museum
DESCRIPTION:Jewish Federation of Central Massachusetts\nCalendar\nhttps://j
 ewishcentralmass.org/calendar/community-trip-russian-icon-museum\n\nCommun
 ity Trip - Russian Icon Museum\n\nSunday\, January 7\n\nBus departs at 1:3
 0pm\n\nRSVP by 1/4/18 at 508-756-1543
DTSTART;TZID=America/New_York:20180107T133000
DTEND;TZID=America/New_York:20180107T170000
END:VEVENT
END:VCALENDAR
