BEGIN:VCALENDAR
PRODID:-//eluceo/ical//2.0/EN
VERSION:2.0
CALSCALE:GREGORIAN
BEGIN:VEVENT
UID:e0dc790c3a4a32d11f49d7b29b64923a
DTSTAMP:20260420T122418Z
SUMMARY:Community Security Training with SCN
DESCRIPTION:Jewish Federation of Central Massachusetts\nCalendar\nhttps://j
 ewishcentralmass.org/calendar/community-security-training-with-scn\n\nComm
 unity Security Training with SCN Feb 16 and Mar 16\n\n8:00 pm
DTSTART;TZID=America/New_York:20220216T200000
DTEND;TZID=America/New_York:20220216T220000
END:VEVENT
END:VCALENDAR
