BEGIN:VCALENDAR
PRODID:-//eluceo/ical//2.0/EN
VERSION:2.0
CALSCALE:GREGORIAN
BEGIN:VEVENT
UID:bf1dfa7fa604b69b429c11cad2f923a8
DTSTAMP:20260423T043133Z
SUMMARY:Community Security Training
DESCRIPTION:Jewish Federation of Central Massachusetts\nCalendar\nhttps://j
 ewishcentralmass.org/calendar/community-security-training\n\nCommunity Sec
 urity Training \n\nMarch 16 - Time: TBD
DTSTART;TZID=America/New_York:20220316T100000
DTEND;TZID=America/New_York:20220316T150000
END:VEVENT
END:VCALENDAR
