BEGIN:VCALENDAR
PRODID:-//eluceo/ical//2.0/EN
VERSION:2.0
CALSCALE:GREGORIAN
BEGIN:VEVENT
UID:84af973f57338706a761d9758c52b887
DTSTAMP:20260423T165752Z
SUMMARY:Jewish Heritage Night at Worcester Railers 2025
DESCRIPTION:Jewish Federation of Central Massachusetts\nCalendar\nhttps://j
 ewishcentralmass.org/calendar/community-railers-game-2025\n\nJewish Herita
 ge Night at Worcester Railers Hockey\n\n3:05 pm\n\nIf you are unable to us
 e a QR code\, please contact SeanH@railershc.com directly for assistance
  for Jewish Heritage Night.
DTSTART;TZID=America/New_York:20250323T150500
DTEND;TZID=America/New_York:20250323T170500
END:VEVENT
END:VCALENDAR
