BEGIN:VCALENDAR
PRODID:-//eluceo/ical//2.0/EN
VERSION:2.0
CALSCALE:GREGORIAN
BEGIN:VEVENT
UID:c065f37f9d543d0eb7bdcb48623d88dd
DTSTAMP:20260424T192259Z
SUMMARY:Community Purim Party 2023
DESCRIPTION:Jewish Federation of Central Massachusetts\nCalendar\nhttps://j
 ewishcentralmass.org/calendar/community-purim-party-2023\n\nTuesday\, Marc
 h 7\, 5:00 pm\n\nPurim in Hollywood\n\nOff the Rails - 90 Commercial Stree
 t\, Worcester
DTSTART;TZID=America/New_York:20230307T170000
DTEND;TZID=America/New_York:20230307T210000
END:VEVENT
END:VCALENDAR
