BEGIN:VCALENDAR
PRODID:-//eluceo/ical//2.0/EN
VERSION:2.0
CALSCALE:GREGORIAN
BEGIN:VEVENT
UID:acd0c0e8d82c9caf28c92cc4b3c83bac
DTSTAMP:20260421T010822Z
SUMMARY:Community Purim Event 2024
DESCRIPTION:Jewish Federation of Central Massachusetts\nCalendar\nhttps://j
 ewishcentralmass.org/calendar/community-purim-event-2024\n\nCommunity Puri
 m Event\n\n4:00 - 8:00 pm
DTSTART;TZID=America/New_York:20240325T160000
DTEND;TZID=America/New_York:20240325T200000
END:VEVENT
END:VCALENDAR
