BEGIN:VCALENDAR
PRODID:-//eluceo/ical//2.0/EN
VERSION:2.0
CALSCALE:GREGORIAN
BEGIN:VEVENT
UID:47f9f87e92b53a99e8aaa3e2275e95c8
DTSTAMP:20260421T085430Z
SUMMARY:Community McGovern Meeting
DESCRIPTION:Jewish Federation of Central Massachusetts\nCalendar\nhttps://j
 ewishcentralmass.org/calendar/community-mcgovern-meeting\n\nCommunity McGo
 vern Meeting\n\nMonday\, February 26 at 6:00 pm - Beth Israel
DTSTART;TZID=America/New_York:20240226T180000
DTEND;TZID=America/New_York:20240226T203000
END:VEVENT
END:VCALENDAR
