BEGIN:VCALENDAR
PRODID:-//eluceo/ical//2.0/EN
VERSION:2.0
CALSCALE:GREGORIAN
BEGIN:VEVENT
UID:02b2440c4be53b48f33f03fec9589c39
DTSTAMP:20260423T125158Z
SUMMARY:Community Lecture with sponsors w/speaker Reuven Hazan
DESCRIPTION:Jewish Federation of Central Massachusetts\nCalendar\nhttps://j
 ewishcentralmass.org/calendar/community-lecture-with-sponsors-w-speaker-re
 uven-hazan\n\nCommunity Lecture w/speaker Reuven Hazan
DTSTART;TZID=America/New_York:20140129T190000
DTEND;TZID=America/New_York:20140129T210000
END:VEVENT
END:VCALENDAR
