BEGIN:VCALENDAR
PRODID:-//eluceo/ical//2.0/EN
VERSION:2.0
CALSCALE:GREGORIAN
BEGIN:VEVENT
UID:f910d450b52f2fe5d0bef69daf903454
DTSTAMP:20260421T114652Z
SUMMARY:Community Hebrew Naming Ceremony at Shaarei Zedeck
DESCRIPTION:Jewish Federation of Central Massachusetts\nCalendar\nhttps://j
 ewishcentralmass.org/calendar/community-hebrew-naming-ceremony-at-shaarei-
 zedeck\n\nMarch 02\, 2024.  Community Hebrew Naming Ceremony (approximate
 ly 10:30am\, during services) \n\nCome celebrate as Shaarei Zedeck congre
 gants publicly declare their Hebrew name\, and for those who do not have a
  Hebrew name to choose one and share it with fellow congregants.  \n\n 
 \n\nShaarei Zedeck | 105 Water Street | Clinton | MA OR Zoom with this l
 ink  
DTSTART;TZID=America/New_York:20240302T103000
DTEND;TZID=America/New_York:20240302T123000
END:VEVENT
END:VCALENDAR
