BEGIN:VCALENDAR
PRODID:-//eluceo/ical//2.0/EN
VERSION:2.0
CALSCALE:GREGORIAN
BEGIN:VEVENT
UID:e98e453147f763d8b4c8d69252cb1620
DTSTAMP:20260422T162653Z
SUMMARY:Community Hebrew High School Graduation
DESCRIPTION:Jewish Federation of Central Massachusetts\nCalendar\nhttps://j
 ewishcentralmass.org/calendar/community-hebrew-high-school-graduation\n\nC
 HHS Graduation
DTSTART;TZID=America/New_York:20130509T183000
DTEND;TZID=America/New_York:20130509T203000
END:VEVENT
END:VCALENDAR
