BEGIN:VCALENDAR
PRODID:-//eluceo/ical//2.0/EN
VERSION:2.0
CALSCALE:GREGORIAN
BEGIN:VEVENT
UID:473285f83b19f78140fcff7ada4f90b5
DTSTAMP:20260421T181913Z
SUMMARY:Community Hanukkah Event at Polar Park 2022
DESCRIPTION:Jewish Federation of Central Massachusetts\nCalendar\nhttps://j
 ewishcentralmass.org/calendar/community-hanukkah-event-at-polar-park-2022\
 n\nWednesday\, December 21\, Community Hanukkah Event at Polar Park\, 5:00
  pm
DTSTART;TZID=America/New_York:20221221T170000
DTEND;TZID=America/New_York:20221221T190000
END:VEVENT
END:VCALENDAR
