BEGIN:VCALENDAR
PRODID:-//eluceo/ical//2.0/EN
VERSION:2.0
CALSCALE:GREGORIAN
BEGIN:VEVENT
UID:6e388e31737519899df93ccf85985737
DTSTAMP:20260422T031746Z
SUMMARY:Community Hanukkah Drive-In Event at the JCC
DESCRIPTION:Jewish Federation of Central Massachusetts\nCalendar\nhttps://j
 ewishcentralmass.org/calendar/community-hanukkah-drive-in-event-at-the-jcc
 \n\nCommunity Hanukkah Drive-In Event at the JCC at 6 pm - reservations re
 quired.
DTSTART;TZID=America/New_York:20201213T180000
DTEND;TZID=America/New_York:20201213T190000
END:VEVENT
END:VCALENDAR
