BEGIN:VCALENDAR
PRODID:-//eluceo/ical//2.0/EN
VERSION:2.0
CALSCALE:GREGORIAN
BEGIN:VEVENT
UID:905f41dbe8a8e13dde9f0f9d89746650
DTSTAMP:20260420T204635Z
SUMMARY:Community Event Hosted by Clark Hillel
DESCRIPTION:Jewish Federation of Central Massachusetts\nCalendar\nhttps://j
 ewishcentralmass.org/calendar/community-event-hosted-by-clark-hillel\n\nAp
 ril 4\n\nClark University Hillel Community Event\n\nPresentation by Lian N
 ajami\,\n\nLocation Clark University\n\nTime TBD\n\nfor more information c
 ontact Jeff Narod jeff.narod@clarku.edu
DTSTART;TZID=America/New_York:20180404T000000
DTEND;TZID=America/New_York:20180404T235959
END:VEVENT
END:VCALENDAR
