BEGIN:VCALENDAR
PRODID:-//eluceo/ical//2.0/EN
VERSION:2.0
CALSCALE:GREGORIAN
BEGIN:VEVENT
UID:9f97d98f7a7ec0444e56c2df1d4fc8bf
DTSTAMP:20260423T040503Z
SUMMARY:Community Chanukah Party and Menorah Lighting at Polar Park
DESCRIPTION:Jewish Federation of Central Massachusetts\nCalendar\nhttps://j
 ewishcentralmass.org/calendar/community-chanukah-party-and-menorah-lightin
 g-at-polar-park\n\nCommunity Chanukah Party and Menorah Lighting at Polar 
 Park
DTSTART;TZID=America/New_York:20211205T170000
DTEND;TZID=America/New_York:20211205T200000
END:VEVENT
END:VCALENDAR
