BEGIN:VCALENDAR
PRODID:-//eluceo/ical//2.0/EN
VERSION:2.0
CALSCALE:GREGORIAN
BEGIN:VEVENT
UID:96e111e66967855ce1c944902e8e4376
DTSTAMP:20260420T233553Z
SUMMARY:CMJTC - Gimpel The Fool 2
DESCRIPTION:Jewish Federation of Central Massachusetts\nCalendar\nhttps://j
 ewishcentralmass.org/calendar/cmjtc-gimpel-the-fool-2\n\nCMJTC - Gimpel Th
 e Fool\n\nSunday\, March 17 at 1:30 pm
DTSTART;TZID=America/New_York:20240317T133000
DTEND;TZID=America/New_York:20240317T153000
END:VEVENT
END:VCALENDAR
