BEGIN:VCALENDAR
PRODID:-//eluceo/ical//2.0/EN
VERSION:2.0
CALSCALE:GREGORIAN
BEGIN:VEVENT
UID:df98641f13a3f7750841cf4097345df0
DTSTAMP:20260421T041339Z
SUMMARY:CMJTC - Gimpel The Fool
DESCRIPTION:Jewish Federation of Central Massachusetts\nCalendar\nhttps://j
 ewishcentralmass.org/calendar/cmjtc-gimpel-the-fool\n\nCMJTC - Gimpel The 
 Fool\n\nSaturday\, March 16 at 7:30 pm\n\nSunday\, March 17 at 1:30 pm
DTSTART;TZID=America/New_York:20240316T193000
DTEND;TZID=America/New_York:20240316T213000
END:VEVENT
END:VCALENDAR
