BEGIN:VCALENDAR
PRODID:-//eluceo/ical//2.0/EN
VERSION:2.0
CALSCALE:GREGORIAN
BEGIN:VEVENT
UID:dae1e184840f4c59edf5ccf18a33eb50
DTSTAMP:20260422T041004Z
SUMMARY:CMJT presents: Marrano: A tale from the Inquisition 2
DESCRIPTION:Jewish Federation of Central Massachusetts\nCalendar\nhttps://j
 ewishcentralmass.org/calendar/cmjt-presents-marrano-a-tale-from-the-inquis
 ition-2\n\nCentral Massachusetts Jewish Theatre \n\npresents\n\n \n\nMar
 rano: A tale from the Inquistion.\n\nJuly 23\, 2023\, at 1:30 pm\n\n 
DTSTART;TZID=America/New_York:20230723T133000
DTEND;TZID=America/New_York:20230723T153000
END:VEVENT
END:VCALENDAR
