BEGIN:VCALENDAR
PRODID:-//eluceo/ical//2.0/EN
VERSION:2.0
CALSCALE:GREGORIAN
BEGIN:VEVENT
UID:adedbe980c54ec5189f3afd894981c20
DTSTAMP:20260423T204944Z
SUMMARY:CMJT presents: Marrano: A tale from the Inquisition 1
DESCRIPTION:Jewish Federation of Central Massachusetts\nCalendar\nhttps://j
 ewishcentralmass.org/calendar/cmjt-presents-marrano-a-tale-from-the-inquis
 ition-1\n\nCentral Massachusetts Jewish Theatre \n\npresents\n\n \n\nMar
 rano: A tale from the Inquistion.\n\nJuly 22\, 2023\, at 8:00 pm
DTSTART;TZID=America/New_York:20230722T200000
DTEND;TZID=America/New_York:20230722T220000
END:VEVENT
END:VCALENDAR
