BEGIN:VCALENDAR
PRODID:-//eluceo/ical//2.0/EN
VERSION:2.0
CALSCALE:GREGORIAN
BEGIN:VEVENT
UID:b44836161bf70aa2541c2e6803701c21
DTSTAMP:20260421T163346Z
SUMMARY:Clark University Event
DESCRIPTION:Jewish Federation of Central Massachusetts\nCalendar\nhttps://j
 ewishcentralmass.org/calendar/clark-university-event\n\nClark University E
 vent
DTSTART;TZID=America/New_York:20130224T170000
DTEND;TZID=America/New_York:20130224T190000
END:VEVENT
END:VCALENDAR
