BEGIN:VCALENDAR
PRODID:-//eluceo/ical//2.0/EN
VERSION:2.0
CALSCALE:GREGORIAN
BEGIN:VEVENT
UID:e22b0bf06a4c369ef9c6ec9b6285591b
DTSTAMP:20260421T202420Z
SUMMARY:Clark Hillel/Young Emissary Shabbaton
DESCRIPTION:Jewish Federation of Central Massachusetts\nCalendar\nhttps://j
 ewishcentralmass.org/calendar/clark-hillelyoung-emissary-shabbaton\n\nOcto
 ber 24th – 26th  Clark Hillel/Young Emissary Shabbaton.
DTSTART;TZID=America/New_York:20191024T160000
DTEND;TZID=America/New_York:20191026T160000
END:VEVENT
END:VCALENDAR
