BEGIN:VCALENDAR
PRODID:-//eluceo/ical//2.0/EN
VERSION:2.0
CALSCALE:GREGORIAN
BEGIN:VEVENT
UID:5ca27d09e27639ea917400ebda5fcbfb
DTSTAMP:20260423T133815Z
SUMMARY:Clark Hillel Advisory Council
DESCRIPTION:Jewish Federation of Central Massachusetts\nCalendar\nhttps://j
 ewishcentralmass.org/calendar/clark-hillel-advisory-council\n\nHillel Advi
 sory Council Meeting\n 
DTSTART;TZID=America/New_York:20141202T170000
DTEND;TZID=America/New_York:20141202T190000
END:VEVENT
END:VCALENDAR
